BEGIN:VCALENDAR
VERSION:2.0
PRODID:-//eventon.com NONSGML v1.0//EN
CALSCALE:GREGORIAN
METHOD:PUBLISH
BEGIN:VEVENT
UID:69ea2c4b3ca16
DTSTAMP:20260423T142723Z
DTSTART:20260301
DTEND:20260302
LOCATION:Boerderijautomaat de Tarpan
SUMMARY:automaat de tarpan
DESCRIPTION:Kom gezellig langs naar onze boerderijautomaat met streekproduc
 ten en er zijn volop exclusieve Tulpen verkrijgbaar💐 daarnaast hebben we
  een mobiele kippenkar. Onze leghennen scharrelen heerlijk over het land en
  er zijn elke dag volop verse biologische eieren verkrijgbaar🌱🐔\nhttp
 s://tulpenrouteflevoland.nl/en/activiteit/automaat-de-tarpan/
URL:https://tulpenrouteflevoland.nl/en/activiteit/automaat-de-tarpan/
END:VEVENT
END:VCALENDAR