BEGIN:VCALENDAR
VERSION:2.0
PRODID:-//eventon.com NONSGML v1.0//EN
CALSCALE:GREGORIAN
METHOD:PUBLISH
BEGIN:VEVENT
UID:69ea30b1c77c0
DTSTAMP:20260423T144609Z
DTSTART:20260401
DTEND:20260402
LOCATION:De Groene Pluk Ibisweg 14
SUMMARY:Tulpenpluktuin
DESCRIPTION:Vanaf woensdag 1 april kun je een bosje onbespoten tulpen komen
  plukken bij Groene Pluk\,  de zelfoogsttuin aan de rand van Almere. Van wo
 ensdag tot en met zaterdag tussen 10.00u en 16.00u. Voor € 12\, 50 per bo
 s (15 tulpen)\,  ter plekke te betalen via de QR-code op de tuin. Instructi
 es[..]\nhttps://tulpenrouteflevoland.nl/en/activiteit/tulpen-plukken-bij-ha
 nnekes-pluktuin/
URL:https://tulpenrouteflevoland.nl/en/activiteit/tulpen-plukken-bij-hannekes-pluktuin/
END:VEVENT
END:VCALENDAR