BEGIN:VCALENDAR
VERSION:2.0
PRODID:-//eventon.com NONSGML v1.0//EN
CALSCALE:GREGORIAN
METHOD:PUBLISH
BEGIN:VEVENT
UID:69ea2edc5ffe8
DTSTAMP:20260423T143820Z
DTSTART:20260321
DTEND:20260322
LOCATION:Het Torenbosje
SUMMARY:Gezinsspeurtocht
DESCRIPTION:Het Torenbosje is een klein bosje waar je de geschiedenis van F
 levoland in een notendop kunt ontdekken! Daarnaast is er een gezinsspeurtoc
 ht van 1\, 5 km voor gezinnen met jonge kinderen: â€˜Kom je potten kijkenâ€
 ™? Verder zijn er leuke picknickplekken\,  een waterpomp\,  een huttenbouwp
 laats; Kortom\,  ontdek het Torenbosje! Website: www.torenbosje.nl\nhttps:/
 /tulpenrouteflevoland.nl/en/activiteit/gezinsspeurtocht-rondom-het-torenbos
 je/
URL:https://tulpenrouteflevoland.nl/en/activiteit/gezinsspeurtocht-rondom-het-torenbosje/
END:VEVENT
END:VCALENDAR