BEGIN:VCALENDAR
VERSION:2.0
PRODID:-//eventon.com NONSGML v1.0//EN
CALSCALE:GREGORIAN
METHOD:PUBLISH
BEGIN:VEVENT
UID:69eabe2d43a0f
DTSTAMP:20260424T004949Z
DTSTART:20260401
DTEND:20260402
LOCATION:Brouwerij Artemis &amp; Haegens Distillery
SUMMARY:Geniet van een tulpenbiertje
DESCRIPTION:Bij Brouwerij Artemis worden er toegankelijke speciaalbieren ge
 brouwd die je direct bij de brouwerij kan verkrijgen. Op het terras kijk je
  uit over het platteland van Flevoland en drink je een biertje direct naast
  de tulpen. Elke zaterdag van 14 tot 17 u zijn onze deuren los. Om te kijke
 n\, [..]\nhttps://tulpenrouteflevoland.nl/en/activiteit/brouwerij-artemis/
URL:https://tulpenrouteflevoland.nl/en/activiteit/brouwerij-artemis/
END:VEVENT
END:VCALENDAR