BEGIN:VCALENDAR
VERSION:2.0
PRODID:-//eventon.com NONSGML v1.0//EN
CALSCALE:GREGORIAN
METHOD:PUBLISH
BEGIN:VEVENT
UID:69ea2fd994598
DTSTAMP:20260423T144233Z
DTSTART:20260420
DTEND:20260421
LOCATION:Beleeftuin Drakensteyn
SUMMARY:Kinder activiteiten
DESCRIPTION:Tijdens de Tulpenroute hebben we speciaal voor kinderen een Tul
 penroute-menu samengesteld. Kom jij samen met je ouders lunchen? Maak er da
 n een echt feestje van! Tijdens het speciale Tulpenroute-menu krijg je een 
 echte tulpenpannenkoek met Nutella en slagroom. Ook krijg je toegang tot de
  beleeftuin én een Lente/Tulpen Bingo-kaart om[..]\nhttps://tulpenroutefle
 voland.nl/en/activiteit/beleeftuin-drakensteyn-2/
URL:https://tulpenrouteflevoland.nl/en/activiteit/beleeftuin-drakensteyn-2/
END:VEVENT
END:VCALENDAR