BEGIN:VCALENDAR
VERSION:2.0
PRODID:-//eventon.com NONSGML v1.0//EN
CALSCALE:GREGORIAN
METHOD:PUBLISH
BEGIN:VEVENT
UID:69ea2d0645954
DTSTAMP:20260423T143030Z
DTSTART:20260403T195100Z
DTEND:20260531T195100Z
LOCATION:De Kandelaar
SUMMARY:Mini Markt
DESCRIPTION:Kom naar de mini markt voor leuke tulpengadgets\,  voorjaarsblo
 eiers en cadeau artikelen. Geniet van een koffie/thee met gebak op ons over
 dekte terras. Neem een kijkje bij de koeien\,  de kaasmakerij en ons melkhu
 isje. Dagelijks geopend van 10 tot 17 uur.\nhttps://tulpenrouteflevoland.nl
 /en/activiteit/mini-markt-2/
URL:https://tulpenrouteflevoland.nl/en/activiteit/mini-markt-2/
END:VEVENT
END:VCALENDAR