BEGIN:VCALENDAR
VERSION:2.0
PRODID:-//eventon.com NONSGML v1.0//EN
CALSCALE:GREGORIAN
METHOD:PUBLISH
BEGIN:VEVENT
UID:69ea862938ac6
DTSTAMP:20260423T205049Z
DTSTART:20260426T134400Z
DTEND:20260426T134400Z
LOCATION:Lanterstrand
SUMMARY:Vliegerfestijn Zeewolde
DESCRIPTION:🪁 Op 26 april kleuren de mooiste vliegers de lucht boven het
  Lanterstrand! Van kleine vrolijke vliegers tot indrukwekkende reuzen: met 
 het Tulpeiland als decor wordt het een spectaculair schouwspel dat je gezie
 n wilt hebben. ✨ Wat kun je verwachten? • Professionele vliegerdemonstr
 aties • Zelf vliegeren op het strand •[..]\nhttps://tulpenrouteflevolan
 d.nl/en/activiteit/vliegerfestijn-zeewolde/
URL:https://tulpenrouteflevoland.nl/en/activiteit/vliegerfestijn-zeewolde/
END:VEVENT
END:VCALENDAR