BEGIN:VCALENDAR
VERSION:2.0
PRODID:-//eventon.com NONSGML v1.0//EN
CALSCALE:GREGORIAN
METHOD:PUBLISH
BEGIN:VEVENT
UID:69e53cb330abb
DTSTAMP:20260419T203603Z
DTSTART:20220416T103000Z
DTEND:20220506T170000Z
LOCATION:Mobiel Kunstatelier
SUMMARY:Mobiel Kunstatelier Boerenliefde
DESCRIPTION:Op nog niet bepaalde dagen zal ik aanwezig zijn bij mijn mobiel
  atelier De Boerenliefde. Er is kunst te zien\,  en te beleven. Bij goed we
 er is er tijd voor ontmoeting\,  en zal ik ook gaan schilderen. @Fotografie
  Sandra Cryns Kunstatelier Boerenliefde\nhttps://tulpenrouteflevoland.nl/ac
 tiviteit/mobiel-kunstatelier-boerenliefde/
URL:https://tulpenrouteflevoland.nl/activiteit/mobiel-kunstatelier-boerenliefde/
END:VEVENT
END:VCALENDAR