BEGIN:VCALENDAR
VERSION:2.0
PRODID:-//eventon.com NONSGML v1.0//EN
CALSCALE:GREGORIAN
METHOD:PUBLISH
BEGIN:VEVENT
UID:69e232f832c3d
DTSTAMP:20260417T131744Z
DTSTART:20230415
DTEND:20230416
LOCATION:De Kalverschuur
SUMMARY:De Kalverschuur
DESCRIPTION:Welkom bij de Kalverschuur. Binnen\,  maar ook buiten in onze n
 atuur- en vlindertuin\,  is het heerlijk ontspannen. Wij bieden leuke natuu
 r- en schilderworkshops aan. Tijdens de Tulpenroute is de Kalverschuur rege
 lmatig geopend. Kom wandelen\,  fietsen of geniet van een lekker bakkie kof
 fie of thee op het terras midden tussen de[..]\nhttps://tulpenrouteflevolan
 d.nl/activiteit/de-kalverschuur/
URL:https://tulpenrouteflevoland.nl/activiteit/de-kalverschuur/
END:VEVENT
END:VCALENDAR