BEGIN:VCALENDAR
VERSION:2.0
PRODID:-//eventon.com NONSGML v1.0//EN
CALSCALE:GREGORIAN
METHOD:PUBLISH
BEGIN:VEVENT
UID:69e509a82391c
DTSTAMP:20260419T165816Z
DTSTART:20230415
DTEND:20230416
LOCATION:Burgerboerderij Oosterwold\,  Ibisweg 14 Zeewolde
SUMMARY:Burgerboerderij Oosterwold
DESCRIPTION:Ontdek bij ons een nieuwe manier om mee te doen in het boerenle
 ven en geniet mee van al het goeds dat het platteland te bieden heeft. Wij 
 bieden lokale producten en rondleidingen aan. info@bboosterwold.nl\nhttps:/
 /tulpenrouteflevoland.nl/activiteit/picknick-boerderij/
URL:https://tulpenrouteflevoland.nl/activiteit/picknick-boerderij/
END:VEVENT
END:VCALENDAR