BEGIN:VCALENDAR
VERSION:2.0
PRODID:-//eventon.com NONSGML v1.0//EN
CALSCALE:GREGORIAN
METHOD:PUBLISH
BEGIN:VEVENT
UID:69e530d77536b
DTSTAMP:20260419T194527Z
DTSTART:20230422T210000Z
DTEND:20230423T105900Z
LOCATION:Shortgolf Swifterbant
SUMMARY:Helicoptervlucht
DESCRIPTION:vlieg boven de tulpenvelden van swifterbant €&nbsp;225\, 00 D
 e helikopter heeft maximaal 3 stoelen per vlucht beschikbaar. Het tarief is
  per vlucht van 7\, 5 minuut (max. 3 passagiers) Een upgrade naar 15 minute
 n is mogelijk voor 375\, - Maximaal gewicht alle passagiers bij elkaar: 255
  kg. https://www.helicentre.eu/product/rondvlucht-tulpen-swifterbant/\nhttp
 s://tulpenrouteflevoland.nl/activiteit/helicoptervlucht/
URL:https://tulpenrouteflevoland.nl/activiteit/helicoptervlucht/
END:VEVENT
END:VCALENDAR