BEGIN:VCALENDAR
VERSION:2.0
PRODID:-//eventon.com NONSGML v1.0//EN
CALSCALE:GREGORIAN
METHOD:PUBLISH
BEGIN:VEVENT
UID:69e666713f00a
DTSTAMP:20260420T174625Z
DTSTART:20240413
DTEND:20240414
LOCATION:De Kandelaar Hoekwantweg 11 Biddinghuizen
SUMMARY:Kindertulp Arrangement
DESCRIPTION:Tijdens Tulpenroute Flevoland organiseren B&amp;B de Kandelaar\
 ,  Zwaan Buitensport en De IJsbrouwers een speciaal arrangement voor de k
 inderen\,  het Kindertulp Arrangement. Het kindertulp arrangement bestaat u
 it een kleurplaat met activiteiten en bezoek aan de drie ondernemers. Bij D
 e IJsbrouwers krijgen de kinderen een ijsje\,  bij Zwaan Buitensport kan er
  gesurvivald worden en[..]\nhttps://tulpenrouteflevoland.nl/activiteit/kind
 ertulp-arrangemen/
URL:https://tulpenrouteflevoland.nl/activiteit/kindertulp-arrangemen/
END:VEVENT
END:VCALENDAR