BEGIN:VCALENDAR
VERSION:2.0
PRODID:-//eventon.com NONSGML v1.0//EN
CALSCALE:GREGORIAN
METHOD:PUBLISH
BEGIN:VEVENT
UID:69e8fceeae148
DTSTAMP:20260422T165302Z
DTSTART:20260401
DTEND:20260402
LOCATION:Bij Boer Sjaak Nulderpad 6
SUMMARY:Boerenijs en bezoek stal
DESCRIPTION:Kom gezellig aan bij ons melkveebedrijf! Geniet van een biologi
 sch geiten- of jersey ijsje\,  neem een kijkje in de stal en bezoek het tul
 penveld. Loeileuk voor het hele gezin! Wappert de Boerenijsvlag op de dam\,
   dan is toegang mogelijk! Check onze website: www.bijboersjaak.nl voor de 
 exacte openingstijden. Facebookpagina.\nhttps://tulpenrouteflevoland.nl/act
 iviteit/bij-boer-sjaak/
URL:https://tulpenrouteflevoland.nl/activiteit/bij-boer-sjaak/
END:VEVENT
END:VCALENDAR